Workbook

Sheet عصير البرتقال
B1: حركة شراب عصير البرتقال لشهر حزيران 2019/6
A3: التاريخ | B3: المدور السابق | C3: الانتاج | D3: ألمبيعات | E3: هدايا خاصة | F3: تالف | G3: المفقودات | H3: نماذج | I3: شركاء | J3: استهلاك محلي
A4: 43617 | B4: 12190 | E4: 1
A5: 43618 | B5: =SUM(B4+C4-D4-E4-F4-G4-H4-I4-J4) -> 12189 | E5: 1 | H5: 2
A6: 43619 | B6: =SUM(B5+C5-D5-E5-F5-G5-H5-I5-J5) -> 12186
A7: 43620 | B7: =SUM(B6+C6-D6-E6-F6-G6-H6-I6-J6) -> 12186
A8: 43621 | B8: =SUM(B7+C7-D7-E7-F7-G7-H7-I7-J7) -> 12186
A9: 43622 | B9: =SUM(B8+C8-D8-E8-F8-G8-H8-I8-J8) -> 12186
A10: 43623 | B10: =SUM(B9+C9-D9-E9-F9-G9-H9-I9-J9) -> 12186
A11: 43624 | B11: =SUM(B10+C10-D10-E10-F10-G10-H10-I10-J10) -> 12186 | D11: 1200
A12: 43625 | B12: =SUM(B11+C11-D11-E11-F11-G11-H11-I11-J11) -> 10986
A13: 43626 | B13: =SUM(B12+C12-D12-E12-F12-G12-H12-I12-J12) -> 10986 | E13: 1
A14: 43627 | B14: =SUM(B13+C13-D13-E13-F13-G13-H13-I13-J13) -> 10985
A15: 43628 | B15: =SUM(B14+C14-D14-E14-F14-G14-H14-I14-J14) -> 10985
A16: 43629 | B16: =SUM(B15+C15-D15-E15-F15-G15-H15-I15-J15) -> 10985 | E16: 1
A17: 43630 | B17: =SUM(B16+C16-D16-E16-F16-G16-H16-I16-J16) -> 10984
A18: 43631 | B18: =SUM(B17+C17-D17-E17-F17-G17-H17-I17-J17) -> 10984 | D18: 107
A19: 43632 | B19: =SUM(B18+C18-D18-E18-F18-G18-H18-I18-J18) -> 10877 | D19: 2640 | J19: 1
A20: 43633 | B20: =SUM(B19+C19-D19-E19-F19-G19-H19-I19-J19) -> 8236
A21: 43634 | B21: =SUM(B20+C20-D20-E20-F20-G20-H20-I20-J20) -> 8236 | D21: 5040 | E21: 1
A22: 43635 | B22: =SUM(B21+C21-D21-E21-F21-G21-H21-I21-J21) -> 3195
A23: 43636 | B23: =SUM(B22+C22-D22-E22-F22-G22-H22-I22-J22) -> 3195 | C23: 8531
A24: 43637 | B24: =SUM(B23+C23-D23-E23-F23-G23-H23-I23-J23) -> 11726
A25: 43638 | B25: =SUM(B24+C24-D24-E24-F24-G24-H24-I24-J24) -> 11726
A26: 43639 | B26: =SUM(B25+C25-D25-E25-F25-G25-H25-I25-J25) -> 11726
A27: 43640 | B27: =SUM(B26+C26-D26-E26-F26-G26-H26-I26-J26) -> 11726 | D27: 480 | J27: 2
A28: 43641 | B28: =SUM(B27+C27-D27-E27-F27-G27-H27-I27-J27) -> 11244 | C28: 2803
A29: 43642 | B29: =SUM(B28+C28-D28-E28-F28-G28-H28-I28-J28) -> 14047
A30: 43643 | B30: =SUM(B29+C29-D29-E29-F29-G29-H29-I29-J29) -> 14047
A31: 43644 | B31: =SUM(B30+C30-D30-E30-F30-G30-H30-I30-J30) -> 14047
A32: 43645 | B32: =SUM(B31+C31-D31-E31-F31-G31-H31-I31-J31) -> 14047
A33: 43646 | B33: =SUM(B32+C32-D32-E32-F32-G32-H32-I32-J32) -> 14047
A34: المجموع | C34: =SUM(C4:C33) -> 11334 | D34: =SUM(D4:D33) -> 9467 | E34: =SUM(E4:E33) -> 5 | F34: =SUM(F4:F33) -> 0 | G34: =SUM(G4:G33) -> 0 | H34: =SUM(H4:H33) -> 2 | I34: =SUM(I4:I33) -> 0 | J34: =SUM(J4:J33) -> 3 | K34: =SUM(D34:J34) -> 9477

Sheet عصير عنب
B1: حركة شراب عصير العنب لشهر حزيران 2019/6
A3: التاريخ | B3: المدور السابق | C3: الانتاج | D3: ألمبيعات | E3: هدايا خاصة | F3: تالف | G3: المفقودات | H3: نماذج | I3: شركاء | J3: استهلاك محلي
A4: 43617 | B4: 7044 | G4: 1
A5: 43618 | B5: =SUM(B4+C4-D4-E4-F4-G4-H4-I4-J4) -> 7043 | E5: 1 | H5: 2
A6: 43619 | B6: =SUM(B5+C5-D5-E5-F5-G5-H5-I5-J5) -> 7040
A7: 43620 | B7: =SUM(B6+C6-D6-E6-F6-G6-H6-I6-J6) -> 7040
A8: 43621 | B8: =SUM(B7+C7-D7-E7-F7-G7-H7-I7-J7) -> 7040
A9: 43622 | B9: =SUM(B8+C8-D8-E8-F8-G8-H8-I8-J8) -> 7040
A10: 43623 | B10: =SUM(B9+C9-D9-E9-F9-G9-H9-I9-J9) -> 7040
A11: 43624 | B11: =SUM(B10+C10-D10-E10-F10-G10-H10-I10-J10) -> 7040 | E11: 1
A12: 43625 | B12: =SUM(B11+C11-D11-E11-F11-G11-H11-I11-J11) -> 7039 | G12: 1
A13: 43626 | B13: =SUM(B12+C12-D12-E12-F12-G12-H12-I12-J12) -> 7038 | E13: 3
A14: 43627 | B14: =SUM(B13+C13-D13-E13-F13-G13-H13-I13-J13) -> 7035 | F14: 2
A15: 43628 | B15: =SUM(B14+C14-D14-E14-F14-G14-H14-I14-J14) -> 7033 | E15: 4
A16: 43629 | B16: =SUM(B15+C15-D15-E15-F15-G15-H15-I15-J15) -> 7029 | E16: 1
A17: 43630 | B17: =SUM(B16+C16-D16-E16-F16-G16-H16-I16-J16) -> 7028
A18: 43631 | B18: =SUM(B17+C17-D17-E17-F17-G17-H17-I17-J17) -> 7028 | D18: 170
A19: 43632 | B19: =SUM(B18+C18-D18-E18-F18-G18-H18-I18-J18) -> 6858 | D19: 1200 | J19: 1
A20: 43633 | B20: =SUM(B19+C19-D19-E19-F19-G19-H19-I19-J19) -> 5657 | J20: 1
A21: 43634 | B21: =SUM(B20+C20-D20-E20-F20-G20-H20-I20-J20) -> 5656 | D21: 1200 | E21: 1
A22: 43635 | B22: =SUM(B21+C21-D21-E21-F21-G21-H21-I21-J21) -> 4455 | D22: 480 | E22: 2
A23: 43636 | B23: =SUM(B22+C22-D22-E22-F22-G22-H22-I22-J22) -> 3973 | E23: 2
A24: 43637 | B24: =SUM(B23+C23-D23-E23-F23-G23-H23-I23-J23) -> 3971
A25: 43638 | B25: =SUM(B24+C24-D24-E24-F24-G24-H24-I24-J24) -> 3971 | E25: 1
A26: 43639 | B26: =SUM(B25+C25-D25-E25-F25-G25-H25-I25-J25) -> 3970 | E26: 2
A27: 43640 | B27: =SUM(B26+C26-D26-E26-F26-G26-H26-I26-J26) -> 3968 | D27: 480 | E27: 1
A28: 43641 | B28: =SUM(B27+C27-D27-E27-F27-G27-H27-I27-J27) -> 3487 | E28: 1
A29: 43642 | B29: =SUM(B28+C28-D28-E28-F28-G28-H28-I28-J28) -> 3486
A30: 43643 | B30: =SUM(B29+C29-D29-E29-F29-G29-H29-I29-J29) -> 3486
A31: 43644 | B31: =SUM(B30+C30-D30-E30-F30-G30-H30-I30-J30) -> 3486
A32: 43645 | B32: =SUM(B31+C31-D31-E31-F31-G31-H31-I31-J31) -> 3486
A33: 43646 | B33: =SUM(B32+C32-D32-E32-F32-G32-H32-I32-J32) -> 3486
A34: المجموع | C34: =SUM(C4:C33) -> 0 | D34: =SUM(D4:D33) -> 3530 | E34: =SUM(E4:E33) -> 20 | F34: =SUM(F4:F33) -> 2 | G34: =SUM(G4:G33) -> 2 | H34: =SUM(H4:H33) -> 2 | I34: =SUM(I4:I33) -> 0 | J34: =SUM(J4:J33) -> 2 | K34: =SUM(D34:J34) -> 3558

Sheet فريش خوخ
B1: حركة شراب فريش الخوخ لشهر حزيران 2019/6
A3: التاريخ | B3: المدور السابق | C3: الانتاج | D3: ألمبيعات | E3: هدايا خاصة | F3: تالف | G3: المفقودات | H3: نماذج | I3: شركاء | J3: استهلاك محلي
A4: 43617 | B4: 10364 | E4: 1
A5: 43618 | B5: =SUM(B4+C4-D4-E4-F4-G4-H4-I4-J4) -> 10363
A6: 43619 | B6: =SUM(B5+C5-D5-E5-F5-G5-H5-I5-J5) -> 10363
A7: 43620 | B7: =SUM(B6+C6-D6-E6-F6-G6-H6-I6-J6) -> 10363
A8: 43621 | B8: =SUM(B7+C7-D7-E7-F7-G7-H7-I7-J7) -> 10363
A9: 43622 | B9: =SUM(B8+C8-D8-E8-F8-G8-H8-I8-J8) -> 10363
A10: 43623 | B10: =SUM(B9+C9-D9-E9-F9-G9-H9-I9-J9) -> 10363
A11: 43624 | B11: =SUM(B10+C10-D10-E10-F10-G10-H10-I10-J10) -> 10363
A12: 43625 | B12: =SUM(B11+C11-D11-E11-F11-G11-H11-I11-J11) -> 10363
A13: 43626 | B13: =SUM(B12+C12-D12-E12-F12-G12-H12-I12-J12) -> 10363 | D13: 3120
A14: 43627 | B14: =SUM(B13+C13-D13-E13-F13-G13-H13-I13-J13) -> 7243 | D14: 3120
A15: 43628 | B15: =SUM(B14+C14-D14-E14-F14-G14-H14-I14-J14) -> 4123 | D15: 3120
A16: 43629 | B16: =SUM(B15+C15-D15-E15-F15-G15-H15-I15-J15) -> 1003 | C16: 3263
A17: 43630 | B17: =SUM(B16+C16-D16-E16-F16-G16-H16-I16-J16) -> 4266
A18: 43631 | B18: =SUM(B17+C17-D17-E17-F17-G17-H17-I17-J17) -> 4266 | D18: 960
A19: 43632 | B19: =SUM(B18+C18-D18-E18-F18-G18-H18-I18-J18) -> 3306 | C19: 6417
A20: 43633 | B20: =SUM(B19+C19-D19-E19-F19-G19-H19-I19-J19) -> 9723 | C20: 628
A21: 43634 | B21: =SUM(B20+C20-D20-E20-F20-G20-H20-I20-J20) -> 10351
A22: 43635 | B22: =SUM(B21+C21-D21-E21-F21-G21-H21-I21-J21) -> 10351 | D22: 3120
A23: 43636 | B23: =SUM(B22+C22-D22-E22-F22-G22-H22-I22-J22) -> 7231
A24: 43637 | B24: =SUM(B23+C23-D23-E23-F23-G23-H23-I23-J23) -> 7231
A25: 43638 | B25: =SUM(B24+C24-D24-E24-F24-G24-H24-I24-J24) -> 7231
A26: 43639 | B26: =SUM(B25+C25-D25-E25-F25-G25-H25-I25-J25) -> 7231 | D26: 6960
A27: 43640 | B27: =SUM(B26+C26-D26-E26-F26-G26-H26-I26-J26) -> 271
A28: 43641 | B28: =SUM(B27+C27-D27-E27-F27-G27-H27-I27-J27) -> 271 | C28: 2095
A29: 43642 | B29: =SUM(B28+C28-D28-E28-F28-G28-H28-I28-J28) -> 2366
A30: 43643 | B30: =SUM(B29+C29-D29-E29-F29-G29-H29-I29-J29) -> 2366
A31: 43644 | B31: =SUM(B30+C30-D30-E30-F30-G30-H30-I30-J30) -> 2366
A32: 43645 | B32: =SUM(B31+C31-D31-E31-F31-G31-H31-I31-J31) -> 2366
A33: 43646 | B33: =SUM(B32+C32-D32-E32-F32-G32-H32-I32-J32) -> 2366
A34: المجموع | C34: =SUM(C4:C33) -> 12403 | D34: =SUM(D4:D33) -> 20400 | E34: =SUM(E4:E33) -> 1 | F34: =SUM(F4:F33) -> 0 | G34: =SUM(G4:G33) -> 0 | H34: =SUM(H4:H33) -> 0 | I34: =SUM(I4:I33) -> 0 | J34: =SUM(J4:J33) -> 0 | K34: =SUM(D34:J34) -> 20401

Sheet حبيبات برتقال 
B1: حركة شراب حبيبات البرتقال لشهر حزيران 2019/6
A3: التاريخ | B3: المدور السابق | C3: الانتاج | D3: ألمبيعات | E3: هدايا خاصة | F3: تالف | G3: المفقودات | H3: نماذج | I3: شركاء | J3: استهلاك محلي
A4: 43617 | B4: 34270 | C4: 1840 | D4: 480
A5: 43618 | B5: =SUM(B4+C4-D4-E4-F4-G4-H4-I4-J4) -> 35630 | E5: 1 | H5: 2
A6: 43619 | B6: =SUM(B5+C5-D5-E5-F5-G5-H5-I5-J5) -> 35627
A7: 43620 | B7: =SUM(B6+C6-D6-E6-F6-G6-H6-I6-J6) -> 35627
A8: 43621 | B8: =SUM(B7+C7-D7-E7-F7-G7-H7-I7-J7) -> 35627
A9: 43622 | B9: =SUM(B8+C8-D8-E8-F8-G8-H8-I8-J8) -> 35627
A10: 43623 | B10: =SUM(B9+C9-D9-E9-F9-G9-H9-I9-J9) -> 35627
A11: 43624 | B11: =SUM(B10+C10-D10-E10-F10-G10-H10-I10-J10) -> 35627 | D11: 4320
A12: 43625 | B12: =SUM(B11+C11-D11-E11-F11-G11-H11-I11-J11) -> 31307 | D12: 8880 | E12: 2
A13: 43626 | B13: =SUM(B12+C12-D12-E12-F12-G12-H12-I12-J12) -> 22425 | D13: 2640 | E13: 2
A14: 43627 | B14: =SUM(B13+C13-D13-E13-F13-G13-H13-I13-J13) -> 19783 | C14: 6904 | D14: 1680 | E14: 6
A15: 43628 | B15: =SUM(B14+C14-D14-E14-F14-G14-H14-I14-J14) -> 25001 | C15: 5841 | D15: 7200 | E15: 3
A16: 43629 | B16: =SUM(B15+C15-D15-E15-F15-G15-H15-I15-J15) -> 23639 | C16: 3175 | D16: 960 | E16: 1 | F16: 1
A17: 43630 | B17: =SUM(B16+C16-D16-E16-F16-G16-H16-I16-J16) -> 25852
A18: 43631 | B18: =SUM(B17+C17-D17-E17-F17-G17-H17-I17-J17) -> 25852 | D18: 234
A19: 43632 | B19: =SUM(B18+C18-D18-E18-F18-G18-H18-I18-J18) -> 25618 | D19: 3360 | E19: 1 | J19: 1
A20: 43633 | B20: =SUM(B19+C19-D19-E19-F19-G19-H19-I19-J19) -> 22256 | D20: 240
A21: 43634 | B21: =SUM(B20+C20-D20-E20-F20-G20-H20-I20-J20) -> 22016
A22: 43635 | B22: =SUM(B21+C21-D21-E21-F21-G21-H21-I21-J21) -> 22016 | D22: 4320
A23: 43636 | B23: =SUM(B22+C22-D22-E22-F22-G22-H22-I22-J22) -> 17696 | D23: 6720
A24: 43637 | B24: =SUM(B23+C23-D23-E23-F23-G23-H23-I23-J23) -> 10976
A25: 43638 | B25: =SUM(B24+C24-D24-E24-F24-G24-H24-I24-J24) -> 10976 | C25: 11448 | D25: 10080 | E25: 2
A26: 43639 | B26: =SUM(B25+C25-D25-E25-F25-G25-H25-I25-J25) -> 12342 | C26: 1293 | D26: 480 | E26: 2
A27: 43640 | B27: =SUM(B26+C26-D26-E26-F26-G26-H26-I26-J26) -> 13153 | D27: 6720 | E27: 3
A28: 43641 | B28: =SUM(B27+C27-D27-E27-F27-G27-H27-I27-J27) -> 6430 | D28: 240
A29: 43642 | B29: =SUM(B28+C28-D28-E28-F28-G28-H28-I28-J28) -> 6190
A30: 43643 | B30: =SUM(B29+C29-D29-E29-F29-G29-H29-I29-J29) -> 6190
A31: 43644 | B31: =SUM(B30+C30-D30-E30-F30-G30-H30-I30-J30) -> 6190
A32: 43645 | B32: =SUM(B31+C31-D31-E31-F31-G31-H31-I31-J31) -> 6190
A33: 43646 | B33: =SUM(B32+C32-D32-E32-F32-G32-H32-I32-J32) -> 6190
A34: المجموع | C34: =SUM(C4:C33) -> 30501 | D34: =SUM(D4:D33) -> 58554 | E34: =SUM(E3:E33) -> 23 | F34: =SUM(F3:F33) -> 1 | G34: =SUM(G3:G33) -> 0 | H34: =SUM(H3:H33) -> 2 | I34: =SUM(I3:I33) -> 0 | J34: =SUM(J3:J33) -> 1 | K34: =SUM(D34:J34) -> 58581

Sheet حبيبات خوخ
B1: حركة شراب حبيبات الخوخ لشهر حزيران 2019/6
A3: التاريخ | B3: المدور السابق | C3: الانتاج | D3: ألمبيعات | E3: هدايا خاصة | F3: تالف | G3: المفقودات | H3: نماذج | I3: شركاء | J3: استهلاك محلي
A4: 43617 | B4: 88236 | D4: 960 | E4: 1
A5: 43618 | B5: =SUM(B4+C4-D4-E4-F4-G4-H4-I4-J4) -> 87275 | C5: 4420 | D5: 240 | E5: 1 | H5: 2
A6: 43619 | B6: =SUM(B5+C5-D5-E5-F5-G5-H5-I5-J5) -> 91452
A7: 43620 | B7: =SUM(B6+C6-D6-E6-F6-G6-H6-I6-J6) -> 91452
A8: 43621 | B8: =SUM(B7+C7-D7-E7-F7-G7-H7-I7-J7) -> 91452
A9: 43622 | B9: =SUM(B8+C8-D8-E8-F8-G8-H8-I8-J8) -> 91452
A10: 43623 | B10: =SUM(B9+C9-D9-E9-F9-G9-H9-I9-J9) -> 91452
A11: 43624 | B11: =SUM(B10+C10-D10-E10-F10-G10-H10-I10-J10) -> 91452 | D11: 6960 | E11: 1
A12: 43625 | B12: =SUM(B11+C11-D11-E11-F11-G11-H11-I11-J11) -> 84491 | D12: 10320
A13: 43626 | B13: =SUM(B12+C12-D12-E12-F12-G12-H12-I12-J12) -> 74171 | D13: 10320
A14: 43627 | B14: =SUM(B13+C13-D13-E13-F13-G13-H13-I13-J13) -> 63851 | D14: 1680 | E14: 6 | J14: 2
A15: 43628 | B15: =SUM(B14+C14-D14-E14-F14-G14-H14-I14-J14) -> 62163 | D15: 8880 | E15: 2
A16: 43629 | B16: =SUM(B15+C15-D15-E15-F15-G15-H15-I15-J15) -> 53281 | D16: 480 | E16: 1 | F16: 1
A17: 43630 | B17: =SUM(B16+C16-D16-E16-F16-G16-H16-I16-J16) -> 52799
A18: 43631 | B18: =SUM(B17+C17-D17-E17-F17-G17-H17-I17-J17) -> 52799 | D18: 762
A19: 43632 | B19: =SUM(B18+C18-D18-E18-F18-G18-H18-I18-J18) -> 52037 | D19: 6240 | E19: 1 | J19: 1
A20: 43633 | B20: =SUM(B19+C19-D19-E19-F19-G19-H19-I19-J19) -> 45795 | C20: 9836 | D20: 240 | E20: 1 | F20: 2
A21: 43634 | B21: =SUM(B20+C20-D20-E20-F20-G20-H20-I20-J20) -> 55388 | C21: 322 | E21: 1 | F21: 3
A22: 43635 | B22: =SUM(B21+C21-D21-E21-F21-G21-H21-I21-J21) -> 55706 | D22: 5765 | E22: 1
A23: 43636 | B23: =SUM(B22+C22-D22-E22-F22-G22-H22-I22-J22) -> 49940 | D23: 9600 | E23: 1
A24: 43637 | B24: =SUM(B23+C23-D23-E23-F23-G23-H23-I23-J23) -> 40339
A25: 43638 | B25: =SUM(B24+C24-D24-E24-F24-G24-H24-I24-J24) -> 40339 | D25: 12290 | E25: 3
A26: 43639 | B26: =SUM(B25+C25-D25-E25-F25-G25-H25-I25-J25) -> 28046 | D26: 960 | E26: 1
A27: 43640 | B27: =SUM(B26+C26-D26-E26-F26-G26-H26-I26-J26) -> 27085 | D27: 6720 | E27: 2
A28: 43641 | B28: =SUM(B27+C27-D27-E27-F27-G27-H27-I27-J27) -> 20363 | D28: 2160 | E28: 2
A29: 43642 | B29: =SUM(B28+C28-D28-E28-F28-G28-H28-I28-J28) -> 18201
A30: 43643 | B30: =SUM(B29+C29-D29-E29-F29-G29-H29-I29-J29) -> 18201
A31: 43644 | B31: =SUM(B30+C30-D30-E30-F30-G30-H30-I30-J30) -> 18201
A32: 43645 | B32: =SUM(B31+C31-D31-E31-F31-G31-H31-I31-J31) -> 18201
A33: 43646 | B33: =SUM(B32+C32-D32-E32-F32-G32-H32-I32-J32) -> 18201
A34: المجموع | C34: =SUM(C4:C33) -> 14578 | D34: =SUM(D4:D33) -> 84577 | E34: =SUM(E4:E33) -> 25 | F34: =SUM(F4:F33) -> 6 | G34: =SUM(G4:G33) -> 0 | H34: =SUM(H4:H33) -> 2 | I34: =SUM(I4:I33) -> 0 | J34: =SUM(J4:J33) -> 3 | K34: =SUM(D34:J34) -> 84613

Sheet فريش برتقال
B1: حركة شراب فريش برتقال لشهر حزيران 2019/6
A3: التاريخ | B3: المدور السابق | C3: الانتاج | D3: ألمبيعات | E3: هدايا خاصة | F3: تالف | G3: المفقودات | H3: نماذج | I3: شركاء | J3: استهلاك محلي
A4: 43617 | B4: 19205
A5: 43618 | B5: =SUM(B4+C4-D4-E4-F4-G4-H4-I4-J4) -> 19205
A6: 43619 | B6: =SUM(B5+C5-D5-E5-F5-G5-H5-I5-J5) -> 19205
A7: 43620 | B7: =SUM(B6+C6-D6-E6-F6-G6-H6-I6-J6) -> 19205
A8: 43621 | B8: =SUM(B7+C7-D7-E7-F7-G7-H7-I7-J7) -> 19205
A9: 43622 | B9: =SUM(B8+C8-D8-E8-F8-G8-H8-I8-J8) -> 19205
A10: 43623 | B10: =SUM(B9+C9-D9-E9-F9-G9-H9-I9-J9) -> 19205
A11: 43624 | B11: =SUM(B10+C10-D10-E10-F10-G10-H10-I10-J10) -> 19205
A12: 43625 | B12: =SUM(B11+C11-D11-E11-F11-G11-H11-I11-J11) -> 19205
A13: 43626 | B13: =SUM(B12+C12-D12-E12-F12-G12-H12-I12-J12) -> 19205 | D13: 3120
A14: 43627 | B14: =SUM(B13+C13-D13-E13-F13-G13-H13-I13-J13) -> 16085 | D14: 3120
A15: 43628 | B15: =SUM(B14+C14-D14-E14-F14-G14-H14-I14-J14) -> 12965 | D15: 3120
A16: 43629 | B16: =SUM(B15+C15-D15-E15-F15-G15-H15-I15-J15) -> 9845
A17: 43630 | B17: =SUM(B16+C16-D16-E16-F16-G16-H16-I16-J16) -> 9845
A18: 43631 | B18: =SUM(B17+C17-D17-E17-F17-G17-H17-I17-J17) -> 9845 | D18: 962
A19: 43632 | B19: =SUM(B18+C18-D18-E18-F18-G18-H18-I18-J18) -> 8883
A20: 43633 | B20: =SUM(B19+C19-D19-E19-F19-G19-H19-I19-J19) -> 8883
A21: 43634 | B21: =SUM(B20+C20-D20-E20-F20-G20-H20-I20-J20) -> 8883
A22: 43635 | B22: =SUM(B21+C21-D21-E21-F21-G21-H21-I21-J21) -> 8883 | D22: 3120
A23: 43636 | B23: =SUM(B22+C22-D22-E22-F22-G22-H22-I22-J22) -> 5763
A24: 43637 | B24: =SUM(B23+C23-D23-E23-F23-G23-H23-I23-J23) -> 5763
A25: 43638 | B25: =SUM(B24+C24-D24-E24-F24-G24-H24-I24-J24) -> 5763
A26: 43639 | B26: =SUM(B25+C25-D25-E25-F25-G25-H25-I25-J25) -> 5763 | D26: 5520
A27: 43640 | B27: =SUM(B26+C26-D26-E26-F26-G26-H26-I26-J26) -> 243
A28: 43641 | B28: =SUM(B27+C27-D27-E27-F27-G27-H27-I27-J27) -> 243
A29: 43642 | B29: =SUM(B28+C28-D28-E28-F28-G28-H28-I28-J28) -> 243
A30: 43643 | B30: =SUM(B29+C29-D29-E29-F29-G29-H29-I29-J29) -> 243
A31: 43644 | B31: =SUM(B30+C30-D30-E30-F30-G30-H30-I30-J30) -> 243
A32: 43645 | B32: =SUM(B31+C31-D31-E31-F31-G31-H31-I31-J31) -> 243
A33: 43646 | B33: =SUM(B32+C32-D32-E32-F32-G32-H32-I32-J32) -> 243
A34: المجموع | C34: =SUM(C4:C33) -> 0 | D34: =SUM(D4:D33) -> 18962 | E34: =SUM(E4:E33) -> 0 | F34: =SUM(F4:F33) -> 0 | G34: =SUM(G4:G33) -> 0 | H34: =SUM(H4:H33) -> 0 | I34: =SUM(I4:I33) -> 0 | J34: =SUM(J4:J33) -> 0 | K34: =SUM(D34:J34) -> 18962

Sheet مجموع المبيعات
D2: مجموع المبيعات | E2: التاريخ | F2: مجموع حركة الشراب | L2: المجموع
F3: عصير برتقال | G3: عصير عنب | H3: فريش خوخ | I3: حبيبات برتقال | J3: حبيبات خوخ | K3: فريش برتقال
D4: =('عصير البرتقال'!K34) -> 9477 | E4: 43617 | F4: =('عصير البرتقال'!B5) -> 12189 | G4: =('عصير عنب'!B5) -> 7043 | H4: =('فريش خوخ'!B5) -> 10363 | I4: =('حبيبات برتقال '!B5) -> 35630 | J4: =('حبيبات خوخ'!B5) -> 87275 | K4: =('فريش برتقال'!B5) -> 19205 | L4: =SUM(F4:K4) -> 171705
D5: =('عصير عنب'!K34) -> 3558 | E5: 43618 | F5: =('عصير البرتقال'!B6) -> 12186 | G5: =('عصير عنب'!B6) -> 7040 | H5: =('فريش خوخ'!B6) -> 10363 | I5: =('حبيبات برتقال '!B6) -> 35627 | J5: =('حبيبات خوخ'!B6) -> 91452 | K5: =('فريش برتقال'!B6) -> 19205 | L5: =SUM(F5:K5) -> 175873
D6: =('فريش خوخ'!K34) -> 20401 | E6: 43619 | F6: =('عصير البرتقال'!B7) -> 12186 | G6: =('عصير عنب'!B7) -> 7040 | H6: =('فريش خوخ'!B7) -> 10363 | I6: =('حبيبات برتقال '!B7) -> 35627 | J6: =('حبيبات خوخ'!B7) -> 91452 | K6: =('فريش برتقال'!B7) -> 19205 | L6: =SUM(F6:K6) -> 175873
D7: =('حبيبات برتقال '!K34) -> 58581 | E7: 43620 | F7: =('عصير البرتقال'!B8) -> 12186 | G7: =('عصير عنب'!B8) -> 7040 | H7: =('فريش خوخ'!B8) -> 10363 | I7: =('حبيبات برتقال '!B8) -> 35627 | J7: =('حبيبات خوخ'!B8) -> 91452 | K7: =('فريش برتقال'!B8) -> 19205 | L7: =SUM(F7:K7) -> 175873
D8: =('حبيبات خوخ'!K34) -> 84613 | E8: 43621 | F8: =('عصير البرتقال'!B9) -> 12186 | G8: =('عصير عنب'!B9) -> 7040 | H8: =('فريش خوخ'!B9) -> 10363 | I8: =('حبيبات برتقال '!B9) -> 35627 | J8: =('حبيبات خوخ'!B9) -> 91452 | K8: =('فريش برتقال'!B9) -> 19205 | L8: =SUM(F8:K8) -> 175873
D9: =('فريش برتقال'!K34) -> 18962 | E9: 43622 | F9: =('عصير البرتقال'!B10) -> 12186 | G9: =('عصير عنب'!B10) -> 7040 | H9: =('فريش خوخ'!B10) -> 10363 | I9: =('حبيبات برتقال '!B10) -> 35627 | J9: =('حبيبات خوخ'!B10) -> 91452 | K9: =('فريش برتقال'!B10) -> 19205 | L9: =SUM(F9:K9) -> 175873
C10: ألمجموع | D10: =SUM(D4:D9) -> 195592 | E10: 43623 | F10: =('عصير البرتقال'!B11) -> 12186 | G10: =('عصير عنب'!B11) -> 7040 | H10: =('فريش خوخ'!B11) -> 10363 | I10: =('حبيبات برتقال '!B11) -> 35627 | J10: =('حبيبات خوخ'!B11) -> 91452 | K10: =('فريش برتقال'!B11) -> 19205 | L10: =SUM(F10:K10) -> 175873
E11: 43624 | F11: =('عصير البرتقال'!B12) -> 10986 | G11: =('عصير عنب'!B12) -> 7039 | H11: =('فريش خوخ'!B12) -> 10363 | I11: =('حبيبات برتقال '!B12) -> 31307 | J11: =('حبيبات خوخ'!B12) -> 84491 | K11: =('فريش برتقال'!B12) -> 19205 | L11: =SUM(F11:K11) -> 163391
E12: 43625 | F12: =('عصير البرتقال'!B13) -> 10986 | G12: =('عصير عنب'!B13) -> 7038 | H12: =('فريش خوخ'!B13) -> 10363 | I12: =('حبيبات برتقال '!B13) -> 22425 | J12: =('حبيبات خوخ'!B13) -> 74171 | K12: =('فريش برتقال'!B13) -> 19205 | L12: =SUM(F12:K12) -> 144188
E13: 43626 | F13: =('عصير البرتقال'!B14) -> 10985 | G13: =('عصير عنب'!B14) -> 7035 | H13: =('فريش خوخ'!B14) -> 7243 | I13: =('حبيبات برتقال '!B14) -> 19783 | J13: =('حبيبات خوخ'!B14) -> 63851 | K13: =('فريش برتقال'!B14) -> 16085 | L13: =SUM(F13:K13) -> 124982
E14: 43627 | F14: =('عصير البرتقال'!B15) -> 10985 | G14: =('عصير عنب'!B15) -> 7033 | H14: =('فريش خوخ'!B15) -> 4123 | I14: =('حبيبات برتقال '!B15) -> 25001 | J14: =('حبيبات خوخ'!B15) -> 62163 | K14: =('فريش برتقال'!B15) -> 12965 | L14: =SUM(F14:K14) -> 122270
E15: 43628 | F15: =('عصير البرتقال'!B16) -> 10985 | G15: =('عصير عنب'!B16) -> 7029 | H15: =('فريش خوخ'!B16) -> 1003 | I15: =('حبيبات برتقال '!B16) -> 23639 | J15: =('حبيبات خوخ'!B16) -> 53281 | K15: =('فريش برتقال'!B16) -> 9845 | L15: =SUM(F15:K15) -> 105782
E16: 43629 | F16: =('عصير البرتقال'!B17) -> 10984 | G16: =('عصير عنب'!B17) -> 7028 | H16: =('فريش خوخ'!B17) -> 4266 | I16: =('حبيبات برتقال '!B17) -> 25852 | J16: =('حبيبات خوخ'!B17) -> 52799 | K16: =('فريش برتقال'!B17) -> 9845 | L16: =SUM(F16:K16) -> 110774
E17: 43630 | F17: =('عصير البرتقال'!B18) -> 10984 | G17: =('عصير عنب'!B18) -> 7028 | H17: =('فريش خوخ'!B18) -> 4266 | I17: =('حبيبات برتقال '!B18) -> 25852 | J17: =('حبيبات خوخ'!B18) -> 52799 | K17: =('فريش برتقال'!B18) -> 9845 | L17: =SUM(F17:K17) -> 110774
E18: 43631 | F18: =('عصير البرتقال'!B19) -> 10877 | G18: =('عصير عنب'!B19) -> 6858 | H18: =('فريش خوخ'!B19) -> 3306 | I18: =('حبيبات برتقال '!B19) -> 25618 | J18: =('حبيبات خوخ'!B19) -> 52037 | K18: =('فريش برتقال'!B19) -> 8883 | L18: =SUM(F18:K18) -> 107579
E19: 43632 | F19: =('عصير البرتقال'!B20) -> 8236 | G19: =('عصير عنب'!B20) -> 5657 | H19: =('فريش خوخ'!B20) -> 9723 | I19: =('حبيبات برتقال '!B20) -> 22256 | J19: =('حبيبات خوخ'!B20) -> 45795 | K19: =('فريش برتقال'!B20) -> 8883 | L19: =SUM(F19:K19) -> 100550
E20: 43633 | F20: =('عصير البرتقال'!B21) -> 8236 | G20: =('عصير عنب'!B21) -> 5656 | H20: =('فريش خوخ'!B21) -> 10351 | I20: =('حبيبات برتقال '!B21) -> 22016 | J20: =('حبيبات خوخ'!B21) -> 55388 | K20: =('فريش برتقال'!B21) -> 8883 | L20: =SUM(F20:K20) -> 110530
E21: 43634 | F21: =('عصير البرتقال'!B22) -> 3195 | G21: =('عصير عنب'!B22) -> 4455 | H21: =('فريش خوخ'!B22) -> 10351 | I21: =('حبيبات برتقال '!B22) -> 22016 | J21: =('حبيبات خوخ'!B22) -> 55706 | K21: =('فريش برتقال'!B22) -> 8883 | L21: =SUM(F21:K21) -> 104606
E22: 43635 | F22: =('عصير البرتقال'!B23) -> 3195 | G22: =('عصير عنب'!B23) -> 3973 | H22: =('فريش خوخ'!B23) -> 7231 | I22: =('حبيبات برتقال '!B23) -> 17696 | J22: =('حبيبات خوخ'!B23) -> 49940 | K22: =('فريش برتقال'!B23) -> 5763 | L22: =SUM(F22:K22) -> 87798
... E33: 43646 | F33: =('عصير البرتقال'!B34) -> 0 | G33: =('عصير عنب'!B34) -> 0 | H33: =('فريش خوخ'!B34) -> 0 | I33: =('حبيبات برتقال '!B34) -> 0 | J33: =('حبيبات خوخ'!B34) -> 0 | K33: =('فريش برتقال'!B34) -> 0 | L33: =SUM(F33:K33) -> 0

Sheet موقف يومي
E2: الموقف اليومي لمخازن معمل الراقي خط العلب
A3: راجي وفريش الحبيبات ليوم الثلاثاء 26 / 6 / 2019
E5: علب راجي عصير وحبيبات 180 ملم
C6: عصير البرتقال | D6: عصير العنب | E6: حبيبات البرتقال | F6: حبيبات الخوخ
C7: 14046 | D7: 3487 | E7: 6190 | F7: 18201
E11: علب فريش حبيبات 180 ملم
D12: فريش برتقال | E12: فريش خوخ
D13: 243 | E13: 2366
D16: المجموع الكلي | E16: 44533
